BEGIN:VCALENDAR
VERSION:2.0
PRODID:-//EEN Andalucía - ECPv6.15.17.1//NONSGML v1.0//EN
CALSCALE:GREGORIAN
METHOD:PUBLISH
X-WR-CALNAME:EEN Andalucía
X-ORIGINAL-URL:https://een-andalucia.es
X-WR-CALDESC:Eventos para EEN Andalucía
REFRESH-INTERVAL;VALUE=DURATION:PT1H
X-Robots-Tag:noindex
X-PUBLISHED-TTL:PT1H
BEGIN:VTIMEZONE
TZID:UTC
BEGIN:STANDARD
TZOFFSETFROM:+0000
TZOFFSETTO:+0000
TZNAME:UTC
DTSTART:20240101T000000
END:STANDARD
END:VTIMEZONE
BEGIN:VEVENT
DTSTART;TZID=UTC:20250512T143000
DTEND;TZID=UTC:20250514T193000
DTSTAMP:20260419T160909
CREATED:20250326T173032Z
LAST-MODIFIED:20250326T173032Z
UID:2940-1747060200-1747251000@een-andalucia.es
SUMMARY:Brokerage Event en el marco del Salón Internacional de Defensa y Seguridad\, FEINDEF 2025
DESCRIPTION:CESEAND co-organiza\, a través de Andalucía TRADE\, la nueva edición del Brokerage Event en FEINDEF 2025: https://www.b2match.com/e/feindef-2025 \nEl Brokerage Event se organiza en el marco del Salón Internacional de Defensa y Seguridad FEINDEF 2025\, que se celebra en IFEMA Madrid\, del 12 al 14 de mayo. FEINDEF es la mayor feria en el ámbito de la seguridad y la defensa en España\, que se celebra cada dos años para reunir a empresas e instituciones de seguridad públicas y privadas\, investigadores\, emprendedores y profesionales\, que quieran desarrollar nuevas actividades tecnológicas y comerciales y\, además\, participar en la convocatoria de propuestas del Clúster 3 de Horizonte Europa: Seguridad Civil para la Sociedad. \nEl nodo andaluz de la Enterprise Europe Network se ha unido así a la Fundación para el Conocimiento Madri+d (coordinadora de la EEN-Madrid)\, que organiza este B2B específicamente dedicado a los clientes de EEN interesados ​​en los ámbitos de seguridad y defensa\, y de manera particular en encontrar socios de I+D o consorcios en marcha para participar en las próximas convocatorias de propuestas del Horizonte Europa Cluster 3. \nMás allá de la participación en proyectos europeos\, FEINDEF 2025 es también una oportunidad única para generar nuevos contactos estratégicos y fomentar la cooperación tecnológica en seguridad y defensa a nivel internacional. \nEl Brokerage Event se realizará en formato híbrido\, por lo que la participación puede ser tanto presencial como online. La inscripción al Brokerage Event es gratuita y los clientes de EEN registrados en el Brokerage tendrán acceso a un código para acceder a la Exposición de forma gratuita\, durante los días en que se celebra el Salón Internacional. \nLa inscripción para el B2B se abrirá el 31 de marzo de 2025\, en paralelo con la publicación de los programas de trabajo de Horizonte Europa para 2025. Durante le celebración del Infoday nacional sobre el Clúster 3 (segunda Jornada de FEINDEF)\, los participantes tendrán además la oportunidad de debatir sus ideas de proyectos con los Puntos de Contacto Nacionales (PCN) de este Clúster 3. \nEl Brokerage Event se centrará en los siguientes temas: \n\nLucha contra la delincuencia y el terrorismo\nGestión de fronteras\nInfraestructura resiliente\nMayor ciberseguridad\nSociedad resiliente a los desastres\nCiberseguridad\nApoyo a la investigación y la innovación en seguridad\nTecnologías disruptivas de defensa\nTecnologías de doble uso\n\nA quién se dirige: \n\nStart-ups y Spin-offs\nPequeñas y medianas empresas\nGrandes empresas\nUniversidades\nCentros de investigación\nProfesionales en el ámbito de la seguridad\nAutoridades\, usuarios finales de las soluciones de seguridad\nOtras organizaciones que buscan socios comerciales\, tecnológicos o de investigación de Europa y más allá.\n\nContacto:  \n\nMª Dolores Guillén Ruiz\, Andalucía TRADE: mariad.guillen.ruiz@andaluciatrade.es\n\n 
URL:https://een-andalucia.es/event/brokerage-event-en-el-marco-del-salon-internacional-de-defensa-y-seguridad-feindef-2025/
LOCATION:IFEMA Madrid\, Av. del Partenón\, 5\, Barajas\, Madrid\, 28042\, Spain
CATEGORIES:Ciberseguridad,Defensa,Digitalización,Evento de Networking,Financiación,Horizonte Europa,Industria,Start-ups,Tecnología
ATTACH;FMTTYPE=image/png:https://een-andalucia.es/wp-content/uploads/2025/03/Captura-de-pantalla-2025-03-26-182042.png
END:VEVENT
END:VCALENDAR