BEGIN:VCALENDAR
VERSION:2.0
PRODID:-//EEN Andalucía - ECPv6.15.17.1//NONSGML v1.0//EN
CALSCALE:GREGORIAN
METHOD:PUBLISH
X-WR-CALNAME:EEN Andalucía
X-ORIGINAL-URL:https://een-andalucia.es
X-WR-CALDESC:Eventos para EEN Andalucía
REFRESH-INTERVAL;VALUE=DURATION:PT1H
X-Robots-Tag:noindex
X-PUBLISHED-TTL:PT1H
BEGIN:VTIMEZONE
TZID:UTC
BEGIN:STANDARD
TZOFFSETFROM:+0000
TZOFFSETTO:+0000
TZNAME:UTC
DTSTART:20240101T000000
END:STANDARD
END:VTIMEZONE
BEGIN:VEVENT
DTSTART;TZID=UTC:20250303T100000
DTEND;TZID=UTC:20250314T180000
DTSTAMP:20260419T182646
CREATED:20250127T130339Z
LAST-MODIFIED:20250127T130815Z
UID:2857-1740996000-1741975200@een-andalucia.es
SUMMARY:Encuentros bilaterales en Mobile World Congress (4YFN)
DESCRIPTION:Andalucía TRADE\, socio del nodo andaluz de la Enterprise Europe Network (EEN)\, impulsa la participación de entidades regionales en la Mobile World Congress (MWC)\, una de las mayores ferias de tecnología móvil que tendrá lugar en Barcelona del 3 al 6 de marzo\n  \nLa Agencia para la Transformación y el Desarrollo Económico de Andalucía\, Andalucía TRADE\, colabora un año más con la Agencia Catalana de Apoyo a la Competitividad de la Empresa (Acció) en la organización de una serie de encuentros bilaterales (B2B)\, en los que los profesionales andaluces interesados podrán asomarse al escaparate de las últimas novedades en el sector de la telefonía móvil\, Internet móvil y las aplicaciones móviles. \nLos encuentros B2B se celebrarán del 3 al 6 de marzo en modalidad presencial entre corporates/inversores y proveedores de tecnología\, pudiendo producirse además más allá de esta semana en modalidad online\, del 10 al 14 de marzo\, entre todos aquellos participantes que se hayan inscrito en el Congreso. Estos B2B vienen constituyendo una de las piezas más exitosas de esta cita tecnológica anual. Se trata de reuniones bilaterales de unos 20 minutos de duración que tienen como objetivo encontrar potenciales socios para el desarrollo de proyectos o el establecimiento de colaboraciones tecnológicas. Estos encuentros están auspiciados por Andalucía TRADE\,  como socio coordinador del nodo andaluz de la Red EEN Enterprise Europe Network) la red Europea de Apoyo a las PYMEs impulsada por la Comisión Europea. \nConsiderado el mayor evento de tecnología móvil del mundo\, la edición MWC celebrada en 2024 reunió a más de 101.000 asistentes procedentes de 205 países\, contó con 2.700 expositores y 1.100 ponentes repartidos en 260 sesiones. Esta última edición 2024 facilitó la celebración de 863 encuentros empresariales con 1078 participantes en ellos. \nEl plazo de inscripción para las entidades interesadas permanecerá abierto hasta el 21 de febrero en este enlace: https://mwc-open-innovation-challenge-2025.b2match.io/ \nPara más información y antes de registrarse en el networking\, la persona de contacto en Andalucía TRADE es: jaime.duran@andaluciatrade.es \nA través de este evento de networking se persigue proporcionar a las PYMEs\, grandes empresas\, organismos de investigación y a cualquier otra institución participantes una plataforma para fomentar el establecimiento de alianzas estratégicas en el sector del hidrógeno verde. Por lo tanto\, este evento constituye una oportunidad única para generar nuevas líneas de negocio\, establecer nuevos contactos y para promover la cooperación tecnológica en este sector. \n  \nEntrada al Congreso MWC25 \nTe facilitaremos un pase gratuito a congresos MWC si tienes al menos una reunión presencial. \n  \n¿Cuál es el procedimiento para aplicar a los retos? \n\nRegístrate en la plataforma y selecciona el/los reto/s al/los que aplicas. Explica detalladamente tu propuesta\nSi tu registro está completo y se ajusta al menos a uno de los retos validaremos tu perfil\nSi la corporación acepta tu propuesta te enviaremos una solicitud de reunión\n¡Esté atento para responder y aceptar la reunión!\n\n\n¿Cuántos participantes por empresa pueden inscribirse? \nAceptaremos solo UNA inscripción por organización.\nSin embargo\, en las reuniones presenciales y virtuales\, puedes invitar a un compañero extra a unirse a la reunión. En total se permite la asistencia de DOS personas por organización a la reunión. \n  \nLugar de celebración (encuentros presenciales del 3 al 6 de marzo) \n4YFN\nFira Gran Via (North Access)\nC/ Foc\, 3708038\nBarcelona
URL:https://een-andalucia.es/event/encuentros-bilaterales-en-mobile-world-congress-4yfn/
LOCATION:Barcelona\, Fira Gran Via\, Barcelona\, Barcelona\, España
CATEGORIES:Biotecnología,Digitalización,Evento de Networking,Financiación,Horizonte Europa,Industria,Internacional,Networking,Tecnología
ATTACH;FMTTYPE=image/jpeg:https://een-andalucia.es/wp-content/uploads/2025/01/WMC-2025.jpg
END:VEVENT
END:VCALENDAR