BEGIN:VCALENDAR
VERSION:2.0
PRODID:-//EEN Andalucía - ECPv6.15.17.1//NONSGML v1.0//EN
CALSCALE:GREGORIAN
METHOD:PUBLISH
X-ORIGINAL-URL:https://een-andalucia.es
X-WR-CALDESC:Eventos para EEN Andalucía
REFRESH-INTERVAL;VALUE=DURATION:PT1H
X-Robots-Tag:noindex
X-PUBLISHED-TTL:PT1H
BEGIN:VTIMEZONE
TZID:UTC
BEGIN:STANDARD
TZOFFSETFROM:+0000
TZOFFSETTO:+0000
TZNAME:UTC
DTSTART:20230101T000000
END:STANDARD
END:VTIMEZONE
BEGIN:VEVENT
DTSTART;TZID=UTC:20241217T093000
DTEND;TZID=UTC:20241217T133000
DTSTAMP:20260419T222017
CREATED:20241125T093524Z
LAST-MODIFIED:20241125T094631Z
UID:2751-1734427800-1734442200@een-andalucia.es
SUMMARY:Jornada EURAXESS: Conoce las claves para incorporar profesionales altamente cualificados en tu organización
DESCRIPTION:La Agencia Empresarial para la Transformación y el Desarrollo Económico\, Andalucía TRADE\, como miembro de la iniciativa europea «EURAXESS – Researchers in Motion«\, organiza en colaboración con la FECYT (Fundación Española para la Ciencia y la Tecnología)\, una Sesión Informativa-Formativa centrada en dar a conocer las claves para incorporar profesionales altamente cualificados en una organización. Esta Jornada tendrá lugar en Sevilla de manera presencial el próximo 17 de diciembre 2024\, en la sede de la Confederación de empresarios de Andalucía (CEA). \nDurante la  jornada\, además de dar a conocer la iniciativa paneuropea EURAXESS\, se tratarán temas de atracción de talento\, movilidad internacional e intersectorial y desarrollo profesional. El encuentro tendrá como invitados al Ministerio de Ciencia\, Innovación y Universidades\, la Agencia Estatal de Investigación y entidades del ecosistema andaluz de innovación. \nPara participar en esta jornada es necesario formalizar la inscripción a través del vínculo siguiente: inscripción \nPara más información\, haga click aquí \nAgenda \n9:30-10:00. Registro \n10:00-10:10. Bienvenida \n10:10-10:20. Presentación de la red y servicios: la movilidad en la práctica. Equipo Coordinación EURAXESS España  \n10:20-10:50 Nuevo plan de atracción de talento. Ministerio de Ciencia\, Innovación y Universidades (tbc) \n10:50-11:15. Coffee break \n11:15-12-15 Panel de financiación de movilidad intersectorial \n\n11:15-11:30. Financiación nacional para contratar investigadores o profesionales altamente cualificados en el sector privado. Lourdes Armesto López. Jefa de Division de Coordinacion\, Evaluacion y Seguimiento Científico y Técnico. Agencia Estatal de Investigación\n11:30-11:40. Financiación europea para contratar investigadores o profesionales altamente cualificados en el sector privado. Punto Nacional de Contacto- MSCA\, FECYT\n11:40-11:50. Casos de éxito financiación EU para contratación de talento investigador o innovador. Semillas Silvestres S.L.\n11:50-12:10. Sesión de preguntas\n\n12:10-12:20. RESAVER: La iniciativa de la Comisión Europea para ofrecer un fondo paneuropeo de pensiones para investigadores o profesionales altamente cualificados en movilidad Agustín Calvo\, responsable de crecimiento en RESAVER \n12:20-13:00. Panel de apoyo a las empresas o entidades \n\n12:20-12:30. Perspectiva de las necesidades de la empresa en materia de talento investigador o innovador. Lucía Díaz Martín. Andalucía TRADE. EEN\n12:30-12:40. IPR-Helpdesk y estrategias para proyectos europeos en Propiedad Intelectual. Amalia Bernier Losa. Andalucía TRADE\n12:40-12:50. Apoyo de EURAXESS a los ecosistemas empresariales. Carmen Méndez. Bizkaia Talent\n12:50-13:15. Sesión de preguntas\n\n13:15 – Final de la Jornada
URL:https://een-andalucia.es/event/jornada-euraxess-conoce-la-claves-para-incorporar-profesionales-altamente-cualificados-en-tu-organizacion/
LOCATION:Confederación de Empresarios de Andalucía. CEA\, Calle Arquímedes\, 2\, Sevilla\, Sevilla\, 41092\, España
CATEGORIES:Evento de Networking,Financiación
ATTACH;FMTTYPE=image/png:https://een-andalucia.es/wp-content/uploads/2024/11/euraxess.png
END:VEVENT
END:VCALENDAR