BEGIN:VCALENDAR
VERSION:2.0
PRODID:-//EEN Andalucía - ECPv6.15.17.1//NONSGML v1.0//EN
CALSCALE:GREGORIAN
METHOD:PUBLISH
X-WR-CALNAME:EEN Andalucía
X-ORIGINAL-URL:https://een-andalucia.es
X-WR-CALDESC:Eventos para EEN Andalucía
REFRESH-INTERVAL;VALUE=DURATION:PT1H
X-Robots-Tag:noindex
X-PUBLISHED-TTL:PT1H
BEGIN:VTIMEZONE
TZID:UTC
BEGIN:STANDARD
TZOFFSETFROM:+0000
TZOFFSETTO:+0000
TZNAME:UTC
DTSTART:20230101T000000
END:STANDARD
END:VTIMEZONE
BEGIN:VEVENT
DTSTART;VALUE=DATE:20240611
DTEND;VALUE=DATE:20240614
DTSTAMP:20260420T063051
CREATED:20240513T113800Z
LAST-MODIFIED:20240513T113800Z
UID:2666-1718064000-1718323199@een-andalucia.es
SUMMARY:Digital Enterprise Show 2024 - Brokerage event B2B
DESCRIPTION:Brokerage Event – Digital Enterprise Show 2024  \n  \nEn el marco del DES | Digital Enterprise Show 2024\, la Agencia Empresarial para la Transformación y el Desarrollo Económico – Andalucía TRADE\, como miembro de Enterprise Europe Network  (EEN)\, organiza\, por tercer año consecutivo\, un encuentro de cooperación internacional destinado a fomentar la colaboración entre empresas y proveedores tecnológicos para acelerar la transformación de su negocio digital. \n  \nLos ENCUENTROS BILATERALES facilita la posibilidad de agendar reuniones B2B previamente concertadas a través de este enlace y está abierta a la participación de empresas\, centros de I+D+i\, instituciones o cualquier otro tipo de entidad relacionada con la temática del DES2024. Las reuniones son 100% presencial. \n  \nEl evento y estos encuentros empresariales B2B tendrán lugar durante el #DES2024 que se celebrará en Málaga\, del 11 al 13 de junio de 2024. La participación en estos encuentros requiere la inscripción en el evento Digital Enterprise Show\, DES. \n  \nPara aquellos interesados en participar\, será necesario inscribirse en la página web del evento https://b2bdes.eventostrade.es/ y completar adecuadamente el perfil de la entidad y sus intereses de cooperación. \n  \nIndustrias clave: \n\nBanca y Seguros\nVenta minorista y comercio electrónico\nManufactura e Industria 5.0\nCiudades inteligentes y movilidad eléctrica\nCiencias de la salud y la vida\nTurismo y hotelería\nSostenibilidad\nEntretenimiento\n\n  \nPor qué participar: \n\nGeneración de oportunidades de negocio de forma eficiente: Participar te brinda la oportunidad de tener reuniones y descubrir nuevas oportunidades comerciales en un ambiente dinámico y colaborativo.\nEncuentro con proveedores de tecnología innovadora: Obtén acceso directo a proveedores de tecnología de vanguardia y descubre soluciones innovadoras que pueden impulsar el crecimiento de tu empresa.\nEstablecimiento de contactos estratégicos: Amplía tu red de contactos al conectar con potenciales socios comerciales para colaboraciones futuras y proyectos conjuntos.\nRelaciones comerciales Internacionales: Explora oportunidades de negocio a nivel internacional que pueden conducir a relaciones comerciales duraderas y beneficiosas.\n\n  \nGrupos destinatarios \n\nStart-ups y spin-offs\nPequeñas y medianas empresas\nGrandes compañias\nUniversidades\, centros de investigación.\ny otras organizaciones que buscan socios comerciales\, tecnológicos o de investigación de Europa y más allá\n\n  \nCoste \nLa participación en las reuniones B2B es gratuita; sin embargo\, se requiere registrarse en el Digital Enterprise Show y pagar la tarifa correspondiente. Si eres cliente de la EEN\, puedes solicitar un código de descuento a tu oficina de soporte de la EEN. \n  \nPuede ver los términos y condiciones de la participación del Brokerage aquí. \nDesde Andalucía TRADE\, como miembro de EEN Andalucía\, le invitamos a que se inscriba y participe en este evento para disfrutar de las posibilidades de networking que le ofrece el Digital Enterprise Show 2024.
URL:https://een-andalucia.es/event/digital-enterprise-show-2024-encuentros-bilaterales-b2b/
LOCATION:FYCMA. Palacio de Ferias Málaga.\, Av. de José Ortega y Gasset\, 201Av. de José Ortega y Gasset\, 201\, Málaga\, MALAGA\, 29006\, España
CATEGORIES:Digitalización,Evento de Networking,Internacional
ATTACH;FMTTYPE=image/png:https://een-andalucia.es/wp-content/uploads/2024/05/TituBRlo.png
END:VEVENT
END:VCALENDAR