BEGIN:VCALENDAR
VERSION:2.0
PRODID:-//EEN Andalucía - ECPv6.15.17.1//NONSGML v1.0//EN
CALSCALE:GREGORIAN
METHOD:PUBLISH
X-WR-CALNAME:EEN Andalucía
X-ORIGINAL-URL:https://een-andalucia.es
X-WR-CALDESC:Eventos para EEN Andalucía
REFRESH-INTERVAL;VALUE=DURATION:PT1H
X-Robots-Tag:noindex
X-PUBLISHED-TTL:PT1H
BEGIN:VTIMEZONE
TZID:UTC
BEGIN:STANDARD
TZOFFSETFROM:+0000
TZOFFSETTO:+0000
TZNAME:UTC
DTSTART:20240101T000000
END:STANDARD
END:VTIMEZONE
BEGIN:VEVENT
DTSTART;TZID=UTC:20250512T143000
DTEND;TZID=UTC:20250514T193000
DTSTAMP:20260419T145610
CREATED:20250326T173032Z
LAST-MODIFIED:20250326T173032Z
UID:2940-1747060200-1747251000@een-andalucia.es
SUMMARY:Brokerage Event en el marco del Salón Internacional de Defensa y Seguridad\, FEINDEF 2025
DESCRIPTION:CESEAND co-organiza\, a través de Andalucía TRADE\, la nueva edición del Brokerage Event en FEINDEF 2025: https://www.b2match.com/e/feindef-2025 \nEl Brokerage Event se organiza en el marco del Salón Internacional de Defensa y Seguridad FEINDEF 2025\, que se celebra en IFEMA Madrid\, del 12 al 14 de mayo. FEINDEF es la mayor feria en el ámbito de la seguridad y la defensa en España\, que se celebra cada dos años para reunir a empresas e instituciones de seguridad públicas y privadas\, investigadores\, emprendedores y profesionales\, que quieran desarrollar nuevas actividades tecnológicas y comerciales y\, además\, participar en la convocatoria de propuestas del Clúster 3 de Horizonte Europa: Seguridad Civil para la Sociedad. \nEl nodo andaluz de la Enterprise Europe Network se ha unido así a la Fundación para el Conocimiento Madri+d (coordinadora de la EEN-Madrid)\, que organiza este B2B específicamente dedicado a los clientes de EEN interesados ​​en los ámbitos de seguridad y defensa\, y de manera particular en encontrar socios de I+D o consorcios en marcha para participar en las próximas convocatorias de propuestas del Horizonte Europa Cluster 3. \nMás allá de la participación en proyectos europeos\, FEINDEF 2025 es también una oportunidad única para generar nuevos contactos estratégicos y fomentar la cooperación tecnológica en seguridad y defensa a nivel internacional. \nEl Brokerage Event se realizará en formato híbrido\, por lo que la participación puede ser tanto presencial como online. La inscripción al Brokerage Event es gratuita y los clientes de EEN registrados en el Brokerage tendrán acceso a un código para acceder a la Exposición de forma gratuita\, durante los días en que se celebra el Salón Internacional. \nLa inscripción para el B2B se abrirá el 31 de marzo de 2025\, en paralelo con la publicación de los programas de trabajo de Horizonte Europa para 2025. Durante le celebración del Infoday nacional sobre el Clúster 3 (segunda Jornada de FEINDEF)\, los participantes tendrán además la oportunidad de debatir sus ideas de proyectos con los Puntos de Contacto Nacionales (PCN) de este Clúster 3. \nEl Brokerage Event se centrará en los siguientes temas: \n\nLucha contra la delincuencia y el terrorismo\nGestión de fronteras\nInfraestructura resiliente\nMayor ciberseguridad\nSociedad resiliente a los desastres\nCiberseguridad\nApoyo a la investigación y la innovación en seguridad\nTecnologías disruptivas de defensa\nTecnologías de doble uso\n\nA quién se dirige: \n\nStart-ups y Spin-offs\nPequeñas y medianas empresas\nGrandes empresas\nUniversidades\nCentros de investigación\nProfesionales en el ámbito de la seguridad\nAutoridades\, usuarios finales de las soluciones de seguridad\nOtras organizaciones que buscan socios comerciales\, tecnológicos o de investigación de Europa y más allá.\n\nContacto:  \n\nMª Dolores Guillén Ruiz\, Andalucía TRADE: mariad.guillen.ruiz@andaluciatrade.es\n\n 
URL:https://een-andalucia.es/event/brokerage-event-en-el-marco-del-salon-internacional-de-defensa-y-seguridad-feindef-2025/
LOCATION:IFEMA Madrid\, Av. del Partenón\, 5\, Barajas\, Madrid\, 28042\, Spain
CATEGORIES:Ciberseguridad,Defensa,Digitalización,Evento de Networking,Financiación,Horizonte Europa,Industria,Start-ups,Tecnología
ATTACH;FMTTYPE=image/png:https://een-andalucia.es/wp-content/uploads/2025/03/Captura-de-pantalla-2025-03-26-182042.png
END:VEVENT
BEGIN:VEVENT
DTSTART;TZID=UTC:20250520T090000
DTEND;TZID=UTC:20250521T140000
DTSTAMP:20260419T145610
CREATED:20250324T104132Z
LAST-MODIFIED:20250326T173142Z
UID:2912-1747731600-1747836000@een-andalucia.es
SUMMARY:MURCIA FOOD BROKERAGE EVENT 2025: Jornadas de Transferencia de Tecnología en Alimentación: 20-21 mayo 2025
DESCRIPTION:El nodo andaluz de la Enterprise Europe Network (EEN)\, participa como co-organizador\, en la X Edición de las Jornadas de Transferencia de Tecnología Internacional en Alimentación\, “MURCIA FOOD BROKERAGE EVENT 2025”\, un evento de ámbito internacional que se celebrará en Murcia los próximos días 20 y 21 de mayo 2025\, donde se darán cita las últimas novedades en materia de Tecnología Alimentaría y búsqueda de socios para proyectos europeos\, y en el que empresas de diferentes países mantendrán reuniones bilaterales para establecer acuerdos de cooperación tecnológica relacionados con las últimas innovaciones en su sector. Esta edición se realizará de forma híbrida. \nDe forma paralela a las jornadas se realizará el “X Simposium Internacional sobre Tecnología Alimentaria”\, un encuentro en el que tendrán cabida conferencias y presentaciones de las ultimas novedades del sector. \nORGANIZACIÓN. El Murcia Food Brokerage Event\, está organizado por el Instituto de Fomento de la Región de Murcia. Es una iniciativa del Centro Empresa Europa SEIMED Murcia\, miembro de la Red Empresa Europa (EEN) financiada por la Comisión Europea. Además\, colabora el Centro Tecnológico Nacional de la Conserva y Alimentación. \nÁREAS TEMÁTICAS \nSeguridad alimentaria y prevención del fraude. \n\nAlérgenos y contaminantes\nAutenticidad de productos alimenticios\, origen geográfico\, botánico o zoológico\, etc.\nSalud y nutrición.\nAlimentación saludable\, nutrición\, estilo de vida\, dieta\, etc. Beneficios para la salud.\nTecnologías “ómicas”: metabolómica\, proteómica\, etc.\nNuevos productos alimentarios: prebióticos\, funcionales\, etc.\n\n Biotecnología y sostenibilidad \n\nBiosensores\, bioingredientes\, biomateriales\, etc.\nReducción de pérdidas y desperdicios alimentarios: reutilización\, valorización\, etc.\nInnovación en distintas producciones alimentarias\, incluido el sector oleícola: tecnologías verdes\, eficiencia energética e hídrica\, etc.\nEnvases activos e inteligentes\, nuevos envases\, etc.\nOtros temas de interés para la industria alimentaria: Ciclo de vida y Ecodiseño\, etc.\n\n Digitalización y control de procesos \n\nAutomatización\, sensores\, metrología\, Inteligencia Artificial\, comunicación\, robótica\, etc.\n\n Tecnologías hidráulicas en el sector alimentario \n\nReutilización del agua\, Huella hídrica\, etc.\n\n  \n PARTICIPANTES: La participación está abierta a empresas\, universidades\, centros tecnológicos\, institutos de investigación\, que ofrezcan o demanden tecnologías alimentarias avanzadas e innovadoras. \n  \nINFORMACIÓN: Andalucía TRADE \nCristina Cabeza Fernández \ncristina.cabeza@andaluciatrade.es \n  \nREGÍSTRESE EN: https://www.b2match.com/e/murciafood2025 \nEl evento se celebrará en presencial en el Auditorio y Centro de Congresos Víctor Villegas (Av. Primero de Mayo s/n\, 30003 Murcia) \n#murciafood25 #EENCanHelp @EEN Andalucia #AndaluciaTRADE  \n 
URL:https://een-andalucia.es/event/murcia-food-brokerage-event-2025-jornadas-de-transferencia-de-tecnologia-en-alimentacion-20-21-mayo-2025/
LOCATION:Auditorio y Centro de Congresos Víctor Villegas\, Av. Primero de Mayo s/n\, Murcia\, Murcia\, 30003\, Spain
CATEGORIES:Agricultura,Agrofood,Alimentos,Biotecnología,Evento de Networking,Sostenibilidad,Tecnología
ATTACH;FMTTYPE=image/png:https://een-andalucia.es/wp-content/uploads/2025/03/Murcia-Food25.png
END:VEVENT
BEGIN:VEVENT
DTSTART;TZID=UTC:20250527T080000
DTEND;TZID=UTC:20250527T190000
DTSTAMP:20260419T145610
CREATED:20250325T114429Z
LAST-MODIFIED:20250325T114429Z
UID:2924-1748332800-1748372400@een-andalucia.es
SUMMARY:Cluster 6 Horizonte Europa: Brokerage Event convocatorias 2025
DESCRIPTION:🔊 Desde CESEAND\, el nodeo andaluz de la Enterprise Europe Network\, Andalucía TRADE co-organiza el Brokerage Event de la red de NCPs del Clúster 6\, CARE4BIO. Se trata de un evento de networking 100% presencial sobre las próximas convocatorias 2025 del Clúster 6 de Horizonte Europa «Alimentación\, Bioeconomía\, Recursos Naturales\, Agricultura y MedioAmbiente». \n📅 27/05/2025\n📍 Varsovia (Polonia) \n✍ La inscripción para este evento ya está abierta: https://lnkd.in/dR–rYPx.  \nHay 200 plazas disponibles se ofrecen en irguroso orden de inscripción. Desde Andalucía TRADE se prestará apoyo a las entidades andaluzas que se registren \nEste evento de networking se dedicará a la formación de consorcios. El objetivo es reunir a todos los actores interesados que deseen solicitar financiación en las convocatorias del Clúster 6 de Horizonte Europa de 2025.\nLa parte principal del evento consistirá en reuniones bilaterales entre participantes europeos y del extranjero con intereses en los mismos topics\, con el objetivo de compartir nuevas ideas de proyectos y encontrar socios colaboradores. De este modo\, este evento les ayudará a formar su consorcio para las próximas convocatorias del Clúster 6 de Horizonte Europa de 2025.\nEl programa del evento también ofrecerá una plataforma para presentar sus ideas de proyecto en presentaciones flash de 5 minutos. \nDesde Andalucía TRADE\, como socios de la Enterprise Europe Network (EEN) y co-organizadores de este evento\, se informará y asesorará a los participantes andaluces que se inscriban. \nContacto: cristina.cabeza@andaluciatrade.es;  Enterprise Europe Network – Andalucia
URL:https://een-andalucia.es/event/cluster-6-horizonte-europa-brokerage-event-convocatorias-2025/
LOCATION:National Institute for Culture and Rural Heritage\, 66 Krakowskie Przedmieście Street\, Warsaw\, 00-322\, Poland
CATEGORIES:Agricultura,Agrofood,Alimentos,Bioeconomía,Evento de Networking,Horizonte Europa,Networking
ATTACH;FMTTYPE=image/png:https://een-andalucia.es/wp-content/uploads/2025/03/Captura-de-pantalla-2025-03-25-123818.png
END:VEVENT
END:VCALENDAR