BEGIN:VCALENDAR
VERSION:2.0
PRODID:-//EEN Andalucía - ECPv6.15.17.1//NONSGML v1.0//EN
CALSCALE:GREGORIAN
METHOD:PUBLISH
X-ORIGINAL-URL:https://een-andalucia.es
X-WR-CALDESC:Eventos para EEN Andalucía
REFRESH-INTERVAL;VALUE=DURATION:PT1H
X-Robots-Tag:noindex
X-PUBLISHED-TTL:PT1H
BEGIN:VTIMEZONE
TZID:UTC
BEGIN:STANDARD
TZOFFSETFROM:+0000
TZOFFSETTO:+0000
TZNAME:UTC
DTSTART:20220101T000000
END:STANDARD
END:VTIMEZONE
BEGIN:VEVENT
DTSTART;VALUE=DATE:20231206
DTEND;VALUE=DATE:20231207
DTSTAMP:20260420T120040
CREATED:20231128T130004Z
LAST-MODIFIED:20231128T130004Z
UID:2303-1701820800-1701907199@een-andalucia.es
SUMMARY:Jornada Internacional de Transferencia de Tecnología: NSE - New Space Economy 2023
DESCRIPTION:El próximo el 6 de diciembre tendrá lugar en Roma la Jornada Internacional de Transferencia de Tecnología ‘NSE – New Space Economy 2023’\, en el marco de la conferencia y feria internacional ‘New Space Economy ExpoForum’. \nAndalucía TRADE colabora en este evento que organiza la Agencia Espacial Italiana (ASI) y el Consejo Nacional de Investigación de Italia (CNR) en colaboración con la Enterprise Europe Network  y que se centrará en la transferencia de tecnologías espaciales hacia nuevos mercados terrestres. \nEl objetivo de esta jornada de encuentros B2B es facilitar la interacción entre los distintos actores relacionados con la Economía del Nuevo Espacio (NSE) que componen la cadena de valor completa\, desde los desarrolladores de tecnologías espaciales hasta los usuarios finales de dichas tecnologías. \nLas áreas que cubre el evento son: \n\nObservación de la Tierra y la Agricultura\nProtección del medio ambiente y contaminación espacial\nTLC\, logística\, servicios terrestres y monitorización\nExplotación de los recursos espaciales\nDatos basados en el espacio y las TIC\nIndustria espacial y servicios\nTelemedicina y salud\nCapital venture\n\n  \nMás información y registro en: https://new-space-economy-2023-brokerage.b2match.io/
URL:https://een-andalucia.es/event/jornada-internacional-de-transferencia-de-tecnologia-nse-new-space-economy-2023/
LOCATION:Fiera di Roma\, Via Portuense\, Roma\, 00148\, Italia
CATEGORIES:Espacio,Evento de Networking
ATTACH;FMTTYPE=image/jpeg:https://een-andalucia.es/wp-content/uploads/2023/11/NSE.jpg
END:VEVENT
END:VCALENDAR