BEGIN:VCALENDAR
VERSION:2.0
PRODID:-//EEN Andalucía - ECPv6.15.17.1//NONSGML v1.0//EN
CALSCALE:GREGORIAN
METHOD:PUBLISH
X-WR-CALNAME:EEN Andalucía
X-ORIGINAL-URL:https://een-andalucia.es
X-WR-CALDESC:Eventos para EEN Andalucía
REFRESH-INTERVAL;VALUE=DURATION:PT1H
X-Robots-Tag:noindex
X-PUBLISHED-TTL:PT1H
BEGIN:VTIMEZONE
TZID:UTC
BEGIN:STANDARD
TZOFFSETFROM:+0000
TZOFFSETTO:+0000
TZNAME:UTC
DTSTART:20240101T000000
END:STANDARD
END:VTIMEZONE
BEGIN:VEVENT
DTSTART;TZID=UTC:20250605T090000
DTEND;TZID=UTC:20250605T130000
DTSTAMP:20260420T023401
CREATED:20250520T101245Z
LAST-MODIFIED:20250521T162913Z
UID:3065-1749114000-1749128400@een-andalucia.es
SUMMARY:Taller sobre la Directiva CSRD para PYMEs del sector TIC
DESCRIPTION:Andalucía TRADE\, como parte de la Enterprise Europe Network (EEN)\, organiza el taller sectorial sobre la Directiva de Reporte Corporativo en Sostenibilidad (CSRD)\, dirigido en esta ocasión a las pequeñas y medianas empresas del sector TIC. \n📅 Fecha: 5 de junio de 2025\n🕘 Duración: 4 horas\n🏛 Lugar: ADIF. Centro de Tecnologías Ferroviarias. C/ Severo Ochoa 9. Parque Tecnológico de Andalucía (Málaga)\n💡 Formato: Presencial \n¿Por qué asistir? \nLa Directiva CSRD marca un nuevo estándar en la divulgación de información en sostenibilidad\, afectando de forma directa a PYMEs cotizadas\, y de manera indirecta a todas aquellas que forman parte de cadenas de valor de grandes empresas. Este taller proporciona a las PYMEs andaluzas del sector TIC una comprensión clara\, práctica y adaptada sobre cómo prepararse para estas exigencias\, reforzando así su competitividad y compromiso con la sostenibilidad. \nPrograma del taller \n\nBienvenida e introducción\n📍 La importancia de la sostenibilidad para las PYMEs\nPrimeros pasos en sostenibilidad\n📍 ¿Cómo empezar a trabajar en sostenibilidad?\n📌 Análisis de materialidad\nMarco voluntario de reporte para PYMEs (VSME)\n📌 Presentación del marco y cómo utilizarlo\nAutoevaluación empresarial\n📍 ¿Cuál es el alcance de mi reporte? ¿Está mi empresa preparada?\nIndicadores clave de sostenibilidad\n📌 Qué reportar\, cuánto y cómo obtener los datos\nHerramientas para el reporte y la comunicación\n📌 Recursos útiles para facilitar la elaboración de informes\n\nInscripción \nEl taller es completamente gratuito y con aforo limitado. Las personas interesadas pueden registrarse a través del siguiente enlace: \n👉 Formulario de inscripción
URL:https://een-andalucia.es/event/taller-sobre-la-directiva-csrd-para-pymes-del-sector-tic/
LOCATION:ADIF. Centro de Tecnologías Ferroviarias\, C/ Severo Ochoa 9\, Parque Tecnológico de Andalucía (Málaga)\, Málaga\, 29590\, Spain
CATEGORIES:Ciberseguridad,Sostenibilidad,TIC
ATTACH;FMTTYPE=image/jpeg:https://een-andalucia.es/wp-content/uploads/2025/05/Imagen_Talleres-CSRD_DEF.jpg
END:VEVENT
BEGIN:VEVENT
DTSTART;VALUE=DATE:20250610
DTEND;VALUE=DATE:20250613
DTSTAMP:20260420T023401
CREATED:20250505T105121Z
LAST-MODIFIED:20250505T105121Z
UID:3044-1749513600-1749772799@een-andalucia.es
SUMMARY:Digital Enterprise Show 2025 - Encuentros Bilaterales B2B
DESCRIPTION:En el marco del Digital Enterprise Show (DES)\, que tendrá lugar del 10 al 12 de junio de 2025 en Málaga\, desde Andalucía TRADE – Agencia Empresarial para la Transformación y el Desarrollo Económico\, y como parte de la Enterprise Europe Network\, organizamos el Brokerage Event DES2025. \nEste encuentro profesional tiene como objetivo facilitar la conexión entre proveedores tecnológicos y organizaciones que buscan soluciones digitales innovadoras para acelerar su proceso de transformación empresarial. \nSectores estratégicos: \nEl evento se dirige a empresas y entidades de sectores clave como: \n\nBanca y Seguros\nMovilidad y Ciudades Inteligentes\nMedia y Entretenimiento\nSalud\nFabricación\nComercio minorista y eCommerce\nTurismo\nSector Público\n\n\n¿Cómo participar?\nPara participar en el Brokerage Event DES2025\, es imprescindible registrarse previamente a través de su página web oficial. Durante el proceso de inscripción\, deberás completar el perfil de tu entidad\, detallando tus intereses de cooperación en el apartado correspondiente al Marketplace. \nLa participación en el Brokerage Event es gratuita\, pero está vinculada a la inscripción en el DES. Según el perfil de tu entidad (como demandante de tecnología o como proveedor de soluciones)\, recibirás un código de participación especial que te permitirá: \n\n\nInscribirte de forma gratuita al DES 2025 (si eres demandante de tecnología) \n\n\nObtener descuentos en la inscripción premium (si eres proveedor y no participas como expositor ni como startup seleccionada en el The Scale-UP! World Summit) \n\n\n\nNota: Las entidades que participen como expositoras o hayan sido seleccionadas para el The Scale-UP! World Summit ya tienen incluida la posibilidad de participar en el Brokerage Event DES2025. \n\nInformación práctica\n\n\nPlazo de inscripción: hasta el 12 de junio a las 12:00 (CEST) \n\n\nParticipación: solo una persona por entidad podrá beneficiarse de los códigos de descuento \n\n\nSelección de reuniones: del 10 de mayo al 12 de junio \n\n\nFormato: reuniones presenciales de 30 minutos\, generadas automáticamente según intereses comunes entre participantes \n\n\nIdiomas disponibles: español e inglés \n\n\nUbicación: Málaga\, en el marco del DES 2025 \n\n\nPara más información o dudas\, puedes contactar con nosotros a través del correo electrónico:📩 een@andaluciatrade.es \n 
URL:https://een-andalucia.es/event/digital-enterprise-show-2025-encuentros-bilaterales-b2b/
LOCATION:FYCMA. Palacio de Ferias Málaga.\, Av. de José Ortega y Gasset\, 201Av. de José Ortega y Gasset\, 201\, Málaga\, MALAGA\, 29006\, España
CATEGORIES:Ciberseguridad,Digitalización,Evento de Networking,Internacional,Movilidad,Networking,Salud,Start-ups,Tecnología
ATTACH;FMTTYPE=image/png:https://een-andalucia.es/wp-content/uploads/2025/05/des_visual_vertical_big-scaled.png
END:VEVENT
BEGIN:VEVENT
DTSTART;TZID=UTC:20250623T170000
DTEND;TZID=UTC:20250623T210000
DTSTAMP:20260420T023401
CREATED:20250613T090641Z
LAST-MODIFIED:20250613T113958Z
UID:3120-1750698000-1750712400@een-andalucia.es
SUMMARY:Curso online gratuito: La aplicación de IA en la generación de contenidos para PYMEs
DESCRIPTION:La Agencia Andalucía TRADE\, a través de la Enterprise Europe Network\, organiza un curso online especialmente diseñado para PYMEs andaluzas interesadas en integrar la Inteligencia Artificial en su día a día. \n🧠 Contenidos del Curso\n🔹 Módulo 1: Introducción a la IA Generativa\nDescubre el potencial de la Inteligencia Artificial aplicada a la empresa. \nBloque 1\n\n\nBreve historia de la IA y sus principales tipos \n\n\n¿Qué es un modelo de lenguaje (LLM)? \n\n\nDiferencias entre IA generativa y predictiva \n\n\nCasos de uso reales por sector y área funcional \n\n\nEl nuevo paradigma: del dato al input \n\n\nÉtica\, sesgos y riesgos asociados a la IA generativa \n\n\nBloque 2 – Showroom de herramientas IA\n\n\nPlataformas para interactuar con la IA: ChatGPT\, Perplexity\, Merlin… \n\n\nHerramientas que automatizan tareas: Sana\, Canva\, Gamma… \n\n\nHerramientas para crear tu propia IA: GPTs\, Chipp\, MindPal… \n\n\n  \n🔹 Módulo 2: Fundamentos de la Ingeniería de Prompts\nAprende a hablar el lenguaje de la IA para obtener resultados precisos y útiles.Bloque 1\n\n\n¿Qué es un prompt? Tipologías y estructuras \n\n\nCómo funcionan los LLM: tokens\, contexto\, temperatura \n\n\nEnfoques de prompting: directivo vs. contextual \n\n\nBloque 2\n\n\nTécnicas esenciales: Zero-shot\, One-shot\, Chain of Thought \n\n\nErrores comunes y cómo evitarlos \n\n\nAplicación de prompts en: \n\n\nCreación de contenidos: emails\, blogs\, redes sociales\, publicidad\, etc. \n\n\nEstrategia empresarial: marketing\, RRHH\, desarrollo de negocio… \n\n\nAnálisis: tono de marca\, efectividad de canales\, comparativas\, etc. \n\n\n\n\n  \n🔹 Módulo 3: IA Generativa Aplicada a Funciones Empresariales\nCómo adaptar la IA a distintos departamentos y perfiles profesionales. \nBloque 1 – Diseño funcional de prompts\n\n\nTipos de prompt: informativo\, analítico\, instructivo\, generativo\, evaluativo\, conversacional \n\n\nRoles estratégicos: copiloto\, analista\, curador de conocimiento… \n\n\nClasificación y ejemplos por rol y tipo \n\n\nCasos prácticos por área \n\n\nMarketing: copies\, segmentación\, análisis de audiencias \n\n\nRRHH: redacción de perfiles\, entrevistas simuladas\, cultura organizativa \n\n\nOperaciones: informes automáticos\, control de calidad \n\n\nDirección: análisis DAFO\, toma de decisiones\, estrategias \n\n\nBloque 2 – Creación de asistentes conversacionales\n\n\nDiferencias entre asistentes GPT (ChatGPT) y Chipp \n\n\nDefinición de propósito\, conocimiento y comportamiento \n\n\nCómo probarlos y validarlos \n\n\n  \n📅 Elige la sesión que mejor se adapte a ti:\n  \nDía 23 de junio: \nHorario: 17:00 a 21:00. \nPonente: Carlos Ojeda Sánchez \n  \nDía 30 de junio \nHorario: 10:00 a 14:00. \nPonente: Laybet Colmenares Zamora. \n  \n🎯 Formación teórico-práctica orientada a mejorar la eficiencia\, productividad y capacidad de innovación de tu empresa. \n📌 Inscripción gratuita :\n\n\nFormulario 23 de junio \n\n\nFormulario 30 de junio
URL:https://een-andalucia.es/event/curso-online-gratuito-la-aplicacion-de-ia-en-la-generacion-de-contenidos-para-pymes/
LOCATION:Málaga
CATEGORIES:Ciberseguridad,IA,Innovación,Propiedad Industrial,Tecnología,TIC
ATTACH;FMTTYPE=image/png:https://een-andalucia.es/wp-content/uploads/2025/06/Photography-Wrkshop-2.png
END:VEVENT
BEGIN:VEVENT
DTSTART;TZID=UTC:20250630T100000
DTEND;TZID=UTC:20250630T140000
DTSTAMP:20260420T023401
CREATED:20250613T090832Z
LAST-MODIFIED:20250624T073517Z
UID:3129-1751277600-1751292000@een-andalucia.es
SUMMARY:Curso online gratuito: La aplicación de IA en la generación de contenidos para PYMEs
DESCRIPTION:PLAZAS AGOTADAS. \nLa Agencia Andalucía TRADE\, a través de la Enterprise Europe Network\, organiza un curso online especialmente diseñado para PYMEs andaluzas interesadas en integrar la Inteligencia Artificial en su día a día. \n🧠 Contenidos del Curso\n🔹 Módulo 1: Introducción a la IA Generativa\nDescubre el potencial de la Inteligencia Artificial aplicada a la empresa. \nBloque 1\n\n\nBreve historia de la IA y sus principales tipos \n\n\n¿Qué es un modelo de lenguaje (LLM)? \n\n\nDiferencias entre IA generativa y predictiva \n\n\nCasos de uso reales por sector y área funcional \n\n\nEl nuevo paradigma: del dato al input \n\n\nÉtica\, sesgos y riesgos asociados a la IA generativa \n\n\nBloque 2 – Showroom de herramientas IA\n\n\nPlataformas para interactuar con la IA: ChatGPT\, Perplexity\, Merlin… \n\n\nHerramientas que automatizan tareas: Sana\, Canva\, Gamma… \n\n\nHerramientas para crear tu propia IA: GPTs\, Chipp\, MindPal… \n\n\n  \n🔹 Módulo 2: Fundamentos de la Ingeniería de Prompts\nAprende a hablar el lenguaje de la IA para obtener resultados precisos y útiles.Bloque 1\n\n\n¿Qué es un prompt? Tipologías y estructuras \n\n\nCómo funcionan los LLM: tokens\, contexto\, temperatura \n\n\nEnfoques de prompting: directivo vs. contextual \n\n\nBloque 2\n\n\nTécnicas esenciales: Zero-shot\, One-shot\, Chain of Thought \n\n\nErrores comunes y cómo evitarlos \n\n\nAplicación de prompts en: \n\n\nCreación de contenidos: emails\, blogs\, redes sociales\, publicidad\, etc. \n\n\nEstrategia empresarial: marketing\, RRHH\, desarrollo de negocio… \n\n\nAnálisis: tono de marca\, efectividad de canales\, comparativas\, etc. \n\n\n\n\n  \n🔹 Módulo 3: IA Generativa Aplicada a Funciones Empresariales\nCómo adaptar la IA a distintos departamentos y perfiles profesionales. \nBloque 1 – Diseño funcional de prompts\n\n\nTipos de prompt: informativo\, analítico\, instructivo\, generativo\, evaluativo\, conversacional \n\n\nRoles estratégicos: copiloto\, analista\, curador de conocimiento… \n\n\nClasificación y ejemplos por rol y tipo \n\n\nCasos prácticos por área \n\n\nMarketing: copies\, segmentación\, análisis de audiencias \n\n\nRRHH: redacción de perfiles\, entrevistas simuladas\, cultura organizativa \n\n\nOperaciones: informes automáticos\, control de calidad \n\n\nDirección: análisis DAFO\, toma de decisiones\, estrategias \n\n\nBloque 2 – Creación de asistentes conversacionales\n\n\nDiferencias entre asistentes GPT (ChatGPT) y Chipp \n\n\nDefinición de propósito\, conocimiento y comportamiento \n\n\nCómo probarlos y validarlos \n\n\n  \n📅 Elige la sesión que mejor se adapte a ti:\n  \nDía 23 de junio: \nHorario: 17:00 a 21:00. \nPonente: Carlos Ojeda Sánchez \n  \nDía 30 de junio \nHorario: 10:00 a 14:00. \nPonente: Laybet Colmenares Zamora. \n  \n🎯 Formación teórico-práctica orientada a mejorar la eficiencia\, productividad y capacidad de innovación de tu empresa. \n📌 Inscripción gratuita :\n\n\nFormulario 23 de junio \n\n\nFormulario 30 de junio
URL:https://een-andalucia.es/event/curso-online-gratuito-la-aplicacion-de-ia-en-la-generacion-de-contenidos-para-pymes-2/
LOCATION:Málaga
CATEGORIES:Ciberseguridad,IA,Innovación,Propiedad Industrial,Tecnología,TIC
ATTACH;FMTTYPE=image/png:https://een-andalucia.es/wp-content/uploads/2025/06/Photography-Wrkshop-2.png
END:VEVENT
END:VCALENDAR