BEGIN:VCALENDAR
VERSION:2.0
PRODID:-//EEN Andalucía - ECPv6.15.17.1//NONSGML v1.0//EN
CALSCALE:GREGORIAN
METHOD:PUBLISH
X-WR-CALNAME:EEN Andalucía
X-ORIGINAL-URL:https://een-andalucia.es
X-WR-CALDESC:Eventos para EEN Andalucía
REFRESH-INTERVAL;VALUE=DURATION:PT1H
X-Robots-Tag:noindex
X-PUBLISHED-TTL:PT1H
BEGIN:VTIMEZONE
TZID:UTC
BEGIN:STANDARD
TZOFFSETFROM:+0000
TZOFFSETTO:+0000
TZNAME:UTC
DTSTART:20240101T000000
END:STANDARD
END:VTIMEZONE
BEGIN:VEVENT
DTSTART;TZID=UTC:20251211T100000
DTEND;TZID=UTC:20251211T133000
DTSTAMP:20260419T165804
CREATED:20251204T124250Z
LAST-MODIFIED:20251204T124250Z
UID:4108-1765447200-1765459800@een-andalucia.es
SUMMARY:Jornada informativa - Horizonte Europa: Clúster 6 y Clima (Clúster 5)
DESCRIPTION:El próximo 11 de diciembre de 2025\, Andalucía TRADE en colaboración con Landaluz\, el Centro para el Desarrollo Tecnológico y la Innovación (CDTI)\, la Enterprise Europe Network (EEN)\, la Red OTRI Andalucía y la Red PIDI\, organizan una jornada para informar sobre las próximas convocatorias del Clúster 6 ( Alimentación\, Bioeconomía\, Recursos Naturales\, Agricultura y Medio Ambiente) y la temática de Clima del Clúster 5 de Horizonte Europa. La jornada tendrá lugar en la sede de Landaluz – Clúster Agroalimentario de Andalucía (C/ Viena s/n Hacienda de Quinto. 41089 – Dos Hermanas – Sevilla). \nEl objetivo principal de la jornada es presentar los aspectos más importantes de las próximas convocatorias de estos programas de Horizonte Europa\, y sus partenariados. Se ofrecerán recomendaciones para la preparación de las propuestas y se compartirá la experiencia de participación en un proyecto concreto. Adicionalmente\, aquellas entidades que estén interesadas podrán realizar una breve presentación de sus capacidades para estas convocatorias. \nComo elemento importante de la jornada\, se ofrece la posibilidad de mantener reuniones individualizadas con el CDTI para revisar ideas de proyectos que los asistentes estén preparando. Para solicitar la reunión\, deberá indicarlo al realizar el registro de inscripción\, cumplimentando la ficha descargable aquí\, y enviándola a mbelen.carrillo@andaluciatrade.es antes del 5 de diciembre de 2025 a las 15:00h. \nLa jornada está dirigida a empresas\, universidades\, centros de investigación y cualquier otra entidad con interés en estas temáticas. \nInscripciones: Hasta el 10 de diciembre de 2025 a las 10:00 h accediendo al siguiente enlace
URL:https://een-andalucia.es/event/jornada-informativa-horizonte-europa-cluster-6-y-clima-cluster-5/
LOCATION:Landaluz\, C/ Viena s/n Hacienda de Quinto\, Dos Hermanas\, Sevilla\, 41089\, Spain
CATEGORIES:Agricultura,Bioeconomía,Cllima,Horizonte Europa,Recursos Naturales
ATTACH;FMTTYPE=image/jpeg:https://een-andalucia.es/wp-content/uploads/2023/11/HorizonteEuropa.jpg
END:VEVENT
END:VCALENDAR